   

BEGIN:VCALENDAR
VERSION:2.0
PRODID:-//Reach Australia - ECPv6.10.1.1//NONSGML v1.0//EN
CALSCALE:GREGORIAN
METHOD:PUBLISH
X-ORIGINAL-URL:http://reach.knicventures.com
X-WR-CALDESC:Events for Reach Australia
REFRESH-INTERVAL;VALUE=DURATION:PT1H
X-Robots-Tag:noindex
X-PUBLISHED-TTL:PT1H
BEGIN:VTIMEZONE
TZID:UTC
BEGIN:STANDARD
TZOFFSETFROM:+0000
TZOFFSETTO:+0000
TZNAME:UTC
DTSTART:20240101T000000
END:STANDARD
END:VTIMEZONE
BEGIN:VEVENT
DTSTART;VALUE=DATE:20241217
DTEND;VALUE=DATE:20241218
DTSTAMP:20260420T080541
CREATED:20240506T133623Z
LAST-MODIFIED:20240506T133623Z
UID:15376-1734393600-1734479999@reach.knicventures.com
SUMMARY:PROPTECH PANEL
DESCRIPTION:Event details coming soon. Stay tuned on their website.
URL:http://reach.knicventures.com/event/proptech-panel-2/
LOCATION:Queensland
END:VEVENT
END:VCALENDAR