   

BEGIN:VCALENDAR
VERSION:2.0
PRODID:-//Reach Australia - ECPv6.10.1.1//NONSGML v1.0//EN
CALSCALE:GREGORIAN
METHOD:PUBLISH
X-WR-CALNAME:Reach Australia
X-ORIGINAL-URL:http://reach.knicventures.com
X-WR-CALDESC:Events for Reach Australia
REFRESH-INTERVAL;VALUE=DURATION:PT1H
X-Robots-Tag:noindex
X-PUBLISHED-TTL:PT1H
BEGIN:VTIMEZONE
TZID:UTC
BEGIN:STANDARD
TZOFFSETFROM:+0000
TZOFFSETTO:+0000
TZNAME:UTC
DTSTART:20240101T000000
END:STANDARD
END:VTIMEZONE
BEGIN:VEVENT
DTSTART;VALUE=DATE:20240904
DTEND;VALUE=DATE:20240907
DTSTAMP:20260420T122708
CREATED:20240506T131752Z
LAST-MODIFIED:20240506T131752Z
UID:15343-1725408000-1725667199@reach.knicventures.com
SUMMARY:RISMedia 2024 CEO & Leadership Exchange
DESCRIPTION:Power-Packed Panels & Presentations await you at the RISMedia 2024 CEO & Leadership Exchange. Engage with over 100 brokerage executives and industry experts\, diving into more than 25 dynamic panel discussions and presentations. Gain unparalleled insights into the latest market shifts\, technology advancements\, and consumer behaviors. \nForge Your Path to Success by learning strategies and tactics from the best in the business. Harness the knowledge and expertise you need to take charge of your real estate endeavors. Navigate challenges with confidence and chart a course for success in the year ahead. \nCelebrate Excellence with us at the Annual Newsmakers Reception & Dinner. Be part of the celebration as we honor the 2024 Real Estate Newsmakers and Hall of Fame inductees. Network with industry leaders and toast to their outstanding achievements.
URL:http://reach.knicventures.com/event/rismedia-2024-ceo-leadership-exchange/
LOCATION:The Mayflower Hotel\, 1127 Connecticut Avenue Northwest\, Washington\, WA\, United States
END:VEVENT
BEGIN:VEVENT
DTSTART;VALUE=DATE:20240909
DTEND;VALUE=DATE:20240912
DTSTAMP:20260420T122708
CREATED:20240506T132041Z
LAST-MODIFIED:20240506T132041Z
UID:15346-1725840000-1726099199@reach.knicventures.com
SUMMARY:SCV Portfolio Summit
DESCRIPTION:Mark your calendars\, Portfolio Summit 2024 is the must-attend event of the year for the REACH Global family! The invite-only event is designed to be a highly engaging and collaborative experience tailored to the unique needs and interests of attendees. \nStay tuned for more updates. Invitations will be sent out via email in the coming weeks.
URL:http://reach.knicventures.com/event/scv-portfolio-summit/
LOCATION:Park City\, Park City\, UT\, United States
END:VEVENT
BEGIN:VEVENT
DTSTART;VALUE=DATE:20240911
DTEND;VALUE=DATE:20240914
DTSTAMP:20260420T122708
CREATED:20240506T132235Z
LAST-MODIFIED:20240506T132235Z
UID:15349-1726012800-1726271999@reach.knicventures.com
SUMMARY:Property Council New Zealand: The Property Conference
DESCRIPTION:The Property Conference is an essential event for decision-makers in the property industry. With a dynamic range of high-calibre speakers\, the three-day event brings together visionary leaders and innovators\, financial heavy-weights and influential drivers within local and central government. \nThis destination conference includes optional site tours\, welcome function\, networking party and two days of engaging plenary sessions.
URL:http://reach.knicventures.com/event/property-council-new-zealand-the-property-conference/
LOCATION:Te Whanganui-a-Tara\, Wellington\, Wellington\, New Zealand
END:VEVENT
BEGIN:VEVENT
DTSTART;VALUE=DATE:20240917
DTEND;VALUE=DATE:20240920
DTSTAMP:20260420T122708
CREATED:20240506T132359Z
LAST-MODIFIED:20240506T132359Z
UID:15352-1726531200-1726790399@reach.knicventures.com
SUMMARY:Blueprint 2024
DESCRIPTION:Join Blueprint 2024\, the largest\, most global gathering of industry leaders and innovators leading the charge in changing the built world – from construction to transaction – for three days of networking\, learning\, and ecosystem advancement. \nWith trillions of dollars of assets and the best global innovators under one roof\, the future of the built world happens here.
URL:http://reach.knicventures.com/event/blueprint-2024/
LOCATION:The Venetian Las Vegas\, Las Vegas\, CA\, United States
END:VEVENT
BEGIN:VEVENT
DTSTART;VALUE=DATE:20240917
DTEND;VALUE=DATE:20240920
DTSTAMP:20260420T122708
CREATED:20240506T132650Z
LAST-MODIFIED:20240506T132650Z
UID:15355-1726531200-1726790399@reach.knicventures.com
SUMMARY:C5 + CCIM Global Summit 2024
DESCRIPTION:Join the National Association of REALTORS® and The CCIM Institute for the C5 + CCIM Global Summit\, the leading commercial real estate conference covering every area of the industry—from development to disposition—across all property sectors. \nTop Commercial Real Estate Conference of 2024 \nAt the C5 + CCIM Global Summit 2024\, practitioners working in every class\, category\, size and shape of commercial and industrial real estate are welcome to a seat at the table where they meet and mingle with representatives from every sector and segment of the commercial ecosystem.
URL:http://reach.knicventures.com/event/c5-ccim-global-summit-2024/
LOCATION:Seminole Hard Rock Hotel & Casino Hollywood\, 1 Seminole Way\, Hollywood\, United States
END:VEVENT
BEGIN:VEVENT
DTSTART;VALUE=DATE:20240924
DTEND;VALUE=DATE:20240927
DTSTAMP:20260420T122708
CREATED:20240506T132850Z
LAST-MODIFIED:20240506T132850Z
UID:15358-1727136000-1727395199@reach.knicventures.com
SUMMARY:Leading RE's Global Symposium 2024
DESCRIPTION:Event details coming soon. Stay tuned on their website.
URL:http://reach.knicventures.com/event/leading-res-global-symposium-2024/
LOCATION:Budapest\, Palmwoods\, Australia
END:VEVENT
BEGIN:VEVENT
DTSTART;VALUE=DATE:20240924
DTEND;VALUE=DATE:20240927
DTSTAMP:20260420T122708
CREATED:20240506T133036Z
LAST-MODIFIED:20240506T133036Z
UID:15361-1727136000-1727395199@reach.knicventures.com
SUMMARY:Missouri Realtors: Fall Business Conference
DESCRIPTION:Event details coming soon. Stay tuned on their website.
URL:http://reach.knicventures.com/event/missouri-realtors-fall-business-conference/
LOCATION:Hilton Branson Convention Center\, 200 East Main Street\, Branson\, MO\, United States
END:VEVENT
END:VCALENDAR