   

BEGIN:VCALENDAR
VERSION:2.0
PRODID:-//Reach Australia - ECPv6.10.1.1//NONSGML v1.0//EN
CALSCALE:GREGORIAN
METHOD:PUBLISH
X-WR-CALNAME:Reach Australia
X-ORIGINAL-URL:http://reach.knicventures.com
X-WR-CALDESC:Events for Reach Australia
REFRESH-INTERVAL;VALUE=DURATION:PT1H
X-Robots-Tag:noindex
X-PUBLISHED-TTL:PT1H
BEGIN:VTIMEZONE
TZID:Australia/Melbourne
BEGIN:STANDARD
TZOFFSETFROM:+1100
TZOFFSETTO:+1000
TZNAME:AEST
DTSTART:20240406T160000
END:STANDARD
BEGIN:DAYLIGHT
TZOFFSETFROM:+1000
TZOFFSETTO:+1100
TZNAME:AEDT
DTSTART:20241005T160000
END:DAYLIGHT
END:VTIMEZONE
BEGIN:VEVENT
DTSTART;TZID=Australia/Melbourne:20240312T170000
DTEND;TZID=Australia/Melbourne:20240312T200000
DTSTAMP:20260420T082444
CREATED:20240201T083448Z
LAST-MODIFIED:20240201T083448Z
UID:13639-1710262800-1710273600@reach.knicventures.com
SUMMARY:RECEPTION DRINKS @Southbank Beer Garden Brisbane
DESCRIPTION:What better way to kick off the event than with a toast to each cohort\, as we look forward to the next few days of gaining knowledge and interacting with the best of the best!
URL:http://reach.knicventures.com/event/reception-drinks-southbank-beer-garden-brisbane/
LOCATION:Southbank Beer Garden Brisbane\, 30ba Stanley St Plaza\, South Brisbane QLD 4101\, Australia\, Brisbane\, Queensland\, QLD 4101\, Australia
ORGANIZER;CN="REACH":MAILTO:hello@reachau.com
END:VEVENT
END:VCALENDAR