   

BEGIN:VCALENDAR
VERSION:2.0
PRODID:-//Reach Australia - ECPv6.10.1.1//NONSGML v1.0//EN
CALSCALE:GREGORIAN
METHOD:PUBLISH
X-WR-CALNAME:Reach Australia
X-ORIGINAL-URL:http://reach.knicventures.com
X-WR-CALDESC:Events for Reach Australia
REFRESH-INTERVAL;VALUE=DURATION:PT1H
X-Robots-Tag:noindex
X-PUBLISHED-TTL:PT1H
BEGIN:VTIMEZONE
TZID:UTC
BEGIN:STANDARD
TZOFFSETFROM:+0000
TZOFFSETTO:+0000
TZNAME:UTC
DTSTART:20250101T000000
END:STANDARD
END:VTIMEZONE
BEGIN:VEVENT
DTSTART;VALUE=DATE:20250407
DTEND;VALUE=DATE:20250409
DTSTAMP:20260420T051529
CREATED:20250324T013734Z
LAST-MODIFIED:20250324T031316Z
UID:18792-1743984000-1744156799@reach.knicventures.com
SUMMARY:Monthly Strategy Calls (Virtual)
DESCRIPTION:Our Monthly Strategy Calls are designed to keep your business on track\, ensuring consistent progress towards your strategic goals. These sessions provide a structured opportunity to review achievements\, address challenges\, and refine your approach with expert guidance from the REACH team.
URL:http://reach.knicventures.com/event/monthly-strategy-calls-april/
LOCATION:Queensland
END:VEVENT
BEGIN:VEVENT
DTSTART;VALUE=DATE:20250512
DTEND;VALUE=DATE:20250514
DTSTAMP:20260420T051529
CREATED:20250324T013924Z
LAST-MODIFIED:20250324T031323Z
UID:18796-1747008000-1747180799@reach.knicventures.com
SUMMARY:Monthly Strategy Calls (Virtual)
DESCRIPTION:Our Monthly Strategy Calls are designed to keep your business on track\, ensuring consistent progress towards your strategic goals. These sessions provide a structured opportunity to review achievements\, address challenges\, and refine your approach with expert guidance from the REACH team.
URL:http://reach.knicventures.com/event/monthly-strategy-calls-may/
LOCATION:Queensland
END:VEVENT
BEGIN:VEVENT
DTSTART;VALUE=DATE:20250523
DTEND;VALUE=DATE:20250524
DTSTAMP:20260420T051529
CREATED:20250304T213827Z
LAST-MODIFIED:20250324T020029Z
UID:18668-1747958400-1748044799@reach.knicventures.com
SUMMARY:REACH May Program Day 2025
DESCRIPTION:Join us for another invaluable chance to connect with your cohort peers\, share your challenges\, and receive timely advice and support from those who understand your experiences. \nWe’ve lined up various industry speakers and mentors renowned for their expertise and success in their respective fields to come and share invaluable insights and further guide you along your journey. \nMORE DETAILS COMING SOON
URL:http://reach.knicventures.com/event/reach-may-program-day-2025/
LOCATION:JW Marriott Gold Coast Resort & Spa\, 158 Ferny Avenue\, Surfers Paradise\, Queensland\, Australia
END:VEVENT
BEGIN:VEVENT
DTSTART;VALUE=DATE:20250523
DTEND;VALUE=DATE:20250524
DTSTAMP:20260420T051529
CREATED:20250304T213917Z
LAST-MODIFIED:20250324T032119Z
UID:18670-1747958400-1748044799@reach.knicventures.com
SUMMARY:REACH Pitch Battle 2025
DESCRIPTION:Stay tuned! More details coming soon.
URL:http://reach.knicventures.com/event/reach-pitch-battle-2025/
LOCATION:Mo’s Desert Clubhouse\, 6/36 Central Dr\, Burleigh Heads\, Queensland\, 4220\, Australia
END:VEVENT
BEGIN:VEVENT
DTSTART;TZID=UTC:20250524T083000
DTEND;TZID=UTC:20250524T163000
DTSTAMP:20260420T051529
CREATED:20250304T214150Z
LAST-MODIFIED:20250324T031941Z
UID:18672-1748075400-1748104200@reach.knicventures.com
SUMMARY:RE BAR Camp 2025
DESCRIPTION:REBarCamp is an informal\, participant-driven “un-conference” designed for real estate agents. Held in a relaxed venue like a bowling club with a bar\, attendees shape the agenda by choosing discussion topics and sessions. \nLearning happens through open conversations rather than structured presentations\, with group discussions led by participants. While networking is welcome\, the primary focus is on sharing knowledge in a supportive\, non-judgemental setting. \nStay tuned! More details coming soon.
URL:http://reach.knicventures.com/event/re-bar-camp-2025/
LOCATION:Burleigh Heads Mowbray Park SLSC\, Mowbray Park\, Goodwin Terrace &\, Gold Coast Hwy\,\, Gold Coast\, Queensland\, 4220\, Australia
END:VEVENT
BEGIN:VEVENT
DTSTART;VALUE=DATE:20250525
DTEND;VALUE=DATE:20250527
DTSTAMP:20260420T051529
CREATED:20250304T214530Z
LAST-MODIFIED:20250304T214530Z
UID:18674-1748131200-1748303999@reach.knicventures.com
SUMMARY:AREC 2025
DESCRIPTION:The Australasian Real Estate Conference (AREC) 2025 will take place on Sunday\, 25 May\, and Monday\, 26 May\, at the Gold Coast Convention & Exhibition Centre. \nAs Australasia’s premier real estate event\, AREC offers two days of industry insights\, networking\, and professional development. The program features keynote speakers\, panel discussions\, and workshops focused on current real estate trends and challenges. The Expo Hall opens at 6:30 AM each day\, showcasing the latest industry products and services.
URL:http://reach.knicventures.com/event/arec-2025/
LOCATION:Gold Coast Convention & Exhibition Centre
END:VEVENT
BEGIN:VEVENT
DTSTART;VALUE=DATE:20250527
DTEND;VALUE=DATE:20250528
DTSTAMP:20260420T051529
CREATED:20250324T020346Z
LAST-MODIFIED:20250324T020346Z
UID:18810-1748304000-1748390399@reach.knicventures.com
SUMMARY:LEADER Conference 2025
DESCRIPTION:A Real Estate LEADERSHIP event like no other. In 2025\, we are bringing back our one-of-a-kind business leadership event. Happening right after AREC on the stunning Gold Coast\, this event is tailor-made to inspire\, educate\, and level up business leaders across all facets of the industry. It’s for sales & property management\, business owners\, CEO’s\, and leaders to come together and elevate their leadership game.
URL:http://reach.knicventures.com/event/leader-conference-2025/
LOCATION:JW Marriott Gold Coast Resort & Spa\, 158 Ferny Avenue\, Surfers Paradise\, Queensland\, Australia
END:VEVENT
BEGIN:VEVENT
DTSTART;VALUE=DATE:20250616
DTEND;VALUE=DATE:20250618
DTSTAMP:20260420T051529
CREATED:20250324T014018Z
LAST-MODIFIED:20250324T031157Z
UID:18797-1750032000-1750204799@reach.knicventures.com
SUMMARY:Monthly Strategy Calls (Virtual)
DESCRIPTION:Our Monthly Strategy Calls are designed to keep your business on track\, ensuring consistent progress towards your strategic goals. These sessions provide a structured opportunity to review achievements\, address challenges\, and refine your approach with expert guidance from the REACH team.
URL:http://reach.knicventures.com/event/monthly-strategy-calls-july/
LOCATION:Queensland
END:VEVENT
BEGIN:VEVENT
DTSTART;VALUE=DATE:20250721
DTEND;VALUE=DATE:20250723
DTSTAMP:20260420T051529
CREATED:20250324T014049Z
LAST-MODIFIED:20250324T031211Z
UID:18798-1753056000-1753228799@reach.knicventures.com
SUMMARY:Monthly Strategy Calls (Virtual)
DESCRIPTION:Our Monthly Strategy Calls are designed to keep your business on track\, ensuring consistent progress towards your strategic goals. These sessions provide a structured opportunity to review achievements\, address challenges\, and refine your approach with expert guidance from the REACH team.
URL:http://reach.knicventures.com/event/monthly-strategy-calls-august/
LOCATION:Queensland
END:VEVENT
BEGIN:VEVENT
DTSTART;VALUE=DATE:20250825
DTEND;VALUE=DATE:20250827
DTSTAMP:20260420T051529
CREATED:20250324T014203Z
LAST-MODIFIED:20250324T031342Z
UID:18803-1756080000-1756252799@reach.knicventures.com
SUMMARY:Monthly Strategy Calls (Virtual)
DESCRIPTION:Our Monthly Strategy Calls are designed to keep your business on track\, ensuring consistent progress towards your strategic goals. These sessions provide a structured opportunity to review achievements\, address challenges\, and refine your approach with expert guidance from the REACH team.
URL:http://reach.knicventures.com/event/monthly-strategy-calls-august-2/
LOCATION:Queensland
END:VEVENT
BEGIN:VEVENT
DTSTART;VALUE=DATE:20250910
DTEND;VALUE=DATE:20250914
DTSTAMP:20260420T051529
CREATED:20250304T214626Z
LAST-MODIFIED:20250324T015919Z
UID:18677-1757462400-1757807999@reach.knicventures.com
SUMMARY:SCV & REACH Annual Portfolio Summit 2025
DESCRIPTION:Date: September 10–12\, 2025\nLocation: Nashville\, TN\, USA\nMain Venue: The Hatchery @ Acme Feed & Seed – Maps Here\nGeneral Attendee Schedule\n\nWednesday\, Sep 10: Evening Welcome Reception (5 p.m. local)\nThursday\, Sep 11: All-day events\nFriday\, Sep 12: All-day events & Closing Dinner\nSaturday\, Sep 13: Recommended departure\n\nThis is an invite-only event reserved for Founders of the REACH companies. Official invitations will be sent out in the coming weeks. This will include everything you need to know about the event\, travel recommendations\, room blocks etc.
URL:http://reach.knicventures.com/event/portfolio-summit-2025/
LOCATION:Queensland
END:VEVENT
BEGIN:VEVENT
DTSTART;VALUE=DATE:20250916
DTEND;VALUE=DATE:20250919
DTSTAMP:20260420T051529
CREATED:20250304T214816Z
LAST-MODIFIED:20250304T214816Z
UID:18679-1757980800-1758239999@reach.knicventures.com
SUMMARY:Blueprint Vegas 2025
DESCRIPTION:The Premier Event for Industry Executives\, Real Estate & Construction Tech Startups and VCs \nJoin the largest\, most global gathering of industry leaders and innovators leading the charge in changing the built world – from construction to management to transaction – for three days of networking\, learning\, and ecosystem advancement. \nWith trillions of dollars of assets and the best global innovators under one roof\, the future of the built world happens here.
URL:http://reach.knicventures.com/event/blueprint-vegas-2025/
LOCATION:The Venetian Las Vegas\, Las Vegas\, CA\, United States
END:VEVENT
BEGIN:VEVENT
DTSTART;VALUE=DATE:20250922
DTEND;VALUE=DATE:20250924
DTSTAMP:20260420T051529
CREATED:20250324T014219Z
LAST-MODIFIED:20250324T031351Z
UID:18799-1758499200-1758671999@reach.knicventures.com
SUMMARY:Monthly Strategy Calls (Virtual)
DESCRIPTION:Our Monthly Strategy Calls are designed to keep your business on track\, ensuring consistent progress towards your strategic goals. These sessions provide a structured opportunity to review achievements\, address challenges\, and refine your approach with expert guidance from the REACH team.
URL:http://reach.knicventures.com/event/monthly-strategy-calls-september/
LOCATION:Queensland
END:VEVENT
BEGIN:VEVENT
DTSTART;VALUE=DATE:20251008
DTEND;VALUE=DATE:20251011
DTSTAMP:20260420T051529
CREATED:20250304T214953Z
LAST-MODIFIED:20250304T214953Z
UID:18681-1759881600-1760140799@reach.knicventures.com
SUMMARY:REIQ Conference 2025
DESCRIPTION:Stay tuned! More details coming soon.
URL:http://reach.knicventures.com/event/reiq-conference-2025/
LOCATION:Queensland
END:VEVENT
END:VCALENDAR