   

BEGIN:VCALENDAR
VERSION:2.0
PRODID:-//Reach Australia - ECPv6.10.1.1//NONSGML v1.0//EN
CALSCALE:GREGORIAN
METHOD:PUBLISH
X-WR-CALNAME:Reach Australia
X-ORIGINAL-URL:http://reach.knicventures.com
X-WR-CALDESC:Events for Reach Australia
REFRESH-INTERVAL;VALUE=DURATION:PT1H
X-Robots-Tag:noindex
X-PUBLISHED-TTL:PT1H
BEGIN:VTIMEZONE
TZID:UTC
BEGIN:STANDARD
TZOFFSETFROM:+0000
TZOFFSETTO:+0000
TZNAME:UTC
DTSTART:20250101T000000
END:STANDARD
END:VTIMEZONE
BEGIN:VEVENT
DTSTART;VALUE=DATE:20250525
DTEND;VALUE=DATE:20250527
DTSTAMP:20260420T020515
CREATED:20250304T214530Z
LAST-MODIFIED:20250304T214530Z
UID:18674-1748131200-1748303999@reach.knicventures.com
SUMMARY:AREC 2025
DESCRIPTION:The Australasian Real Estate Conference (AREC) 2025 will take place on Sunday\, 25 May\, and Monday\, 26 May\, at the Gold Coast Convention & Exhibition Centre. \nAs Australasia’s premier real estate event\, AREC offers two days of industry insights\, networking\, and professional development. The program features keynote speakers\, panel discussions\, and workshops focused on current real estate trends and challenges. The Expo Hall opens at 6:30 AM each day\, showcasing the latest industry products and services.
URL:http://reach.knicventures.com/event/arec-2025/
LOCATION:Gold Coast Convention & Exhibition Centre
END:VEVENT
END:VCALENDAR