   

BEGIN:VCALENDAR
VERSION:2.0
PRODID:-//Reach Australia - ECPv6.10.1.1//NONSGML v1.0//EN
CALSCALE:GREGORIAN
METHOD:PUBLISH
X-WR-CALNAME:Reach Australia
X-ORIGINAL-URL:http://reach.knicventures.com
X-WR-CALDESC:Events for Reach Australia
REFRESH-INTERVAL;VALUE=DURATION:PT1H
X-Robots-Tag:noindex
X-PUBLISHED-TTL:PT1H
BEGIN:VTIMEZONE
TZID:UTC
BEGIN:STANDARD
TZOFFSETFROM:+0000
TZOFFSETTO:+0000
TZNAME:UTC
DTSTART:20250101T000000
END:STANDARD
END:VTIMEZONE
BEGIN:VEVENT
DTSTART;VALUE=DATE:20250523
DTEND;VALUE=DATE:20250524
DTSTAMP:20260420T020516
CREATED:20250304T213827Z
LAST-MODIFIED:20250324T020029Z
UID:18668-1747958400-1748044799@reach.knicventures.com
SUMMARY:REACH May Program Day 2025
DESCRIPTION:Join us for another invaluable chance to connect with your cohort peers\, share your challenges\, and receive timely advice and support from those who understand your experiences. \nWe’ve lined up various industry speakers and mentors renowned for their expertise and success in their respective fields to come and share invaluable insights and further guide you along your journey. \nMORE DETAILS COMING SOON
URL:http://reach.knicventures.com/event/reach-may-program-day-2025/
LOCATION:JW Marriott Gold Coast Resort & Spa\, 158 Ferny Avenue\, Surfers Paradise\, Queensland\, Australia
END:VEVENT
BEGIN:VEVENT
DTSTART;VALUE=DATE:20250523
DTEND;VALUE=DATE:20250524
DTSTAMP:20260420T020516
CREATED:20250304T213917Z
LAST-MODIFIED:20250324T032119Z
UID:18670-1747958400-1748044799@reach.knicventures.com
SUMMARY:REACH Pitch Battle 2025
DESCRIPTION:Stay tuned! More details coming soon.
URL:http://reach.knicventures.com/event/reach-pitch-battle-2025/
LOCATION:Mo’s Desert Clubhouse\, 6/36 Central Dr\, Burleigh Heads\, Queensland\, 4220\, Australia
END:VEVENT
END:VCALENDAR