   

BEGIN:VCALENDAR
VERSION:2.0
PRODID:-//Reach Australia - ECPv6.10.1.1//NONSGML v1.0//EN
CALSCALE:GREGORIAN
METHOD:PUBLISH
X-WR-CALNAME:Reach Australia
X-ORIGINAL-URL:http://reach.knicventures.com
X-WR-CALDESC:Events for Reach Australia
REFRESH-INTERVAL;VALUE=DURATION:PT1H
X-Robots-Tag:noindex
X-PUBLISHED-TTL:PT1H
BEGIN:VTIMEZONE
TZID:UTC
BEGIN:STANDARD
TZOFFSETFROM:+0000
TZOFFSETTO:+0000
TZNAME:UTC
DTSTART:20250101T000000
END:STANDARD
END:VTIMEZONE
BEGIN:VEVENT
DTSTART;VALUE=DATE:20250512
DTEND;VALUE=DATE:20250514
DTSTAMP:20260420T015542
CREATED:20250324T013924Z
LAST-MODIFIED:20250324T031323Z
UID:18796-1747008000-1747180799@reach.knicventures.com
SUMMARY:Monthly Strategy Calls (Virtual)
DESCRIPTION:Our Monthly Strategy Calls are designed to keep your business on track\, ensuring consistent progress towards your strategic goals. These sessions provide a structured opportunity to review achievements\, address challenges\, and refine your approach with expert guidance from the REACH team.
URL:http://reach.knicventures.com/event/monthly-strategy-calls-may/
LOCATION:Queensland
END:VEVENT
END:VCALENDAR