   

BEGIN:VCALENDAR
VERSION:2.0
PRODID:-//Reach Australia - ECPv6.10.1.1//NONSGML v1.0//EN
CALSCALE:GREGORIAN
METHOD:PUBLISH
X-ORIGINAL-URL:http://reach.knicventures.com
X-WR-CALDESC:Events for Reach Australia
REFRESH-INTERVAL;VALUE=DURATION:PT1H
X-Robots-Tag:noindex
X-PUBLISHED-TTL:PT1H
BEGIN:VTIMEZONE
TZID:UTC
BEGIN:STANDARD
TZOFFSETFROM:+0000
TZOFFSETTO:+0000
TZNAME:UTC
DTSTART:20240101T000000
END:STANDARD
END:VTIMEZONE
BEGIN:VEVENT
DTSTART;VALUE=DATE:20241004
DTEND;VALUE=DATE:20241007
DTSTAMP:20260420T122721
CREATED:20240506T133129Z
LAST-MODIFIED:20240506T133129Z
UID:15364-1728000000-1728259199@reach.knicventures.com
SUMMARY:PPW Madrid 2024
DESCRIPTION:Event details coming soon. Stay tuned!
URL:http://reach.knicventures.com/event/ppw-madrid-2024/
LOCATION:Madrid\, Madrid\, Madrid\, Spain
END:VEVENT
END:VCALENDAR